BEGIN:VCALENDAR
VERSION:2.0
PRODID:-//Circuito Carreras Ciudad Real - ECPv6.15.20//NONSGML v1.0//EN
CALSCALE:GREGORIAN
METHOD:PUBLISH
X-WR-CALNAME:Circuito Carreras Ciudad Real
X-ORIGINAL-URL:https://carrerasciudadreal.es
X-WR-CALDESC:Events for Circuito Carreras Ciudad Real
REFRESH-INTERVAL;VALUE=DURATION:PT1H
X-Robots-Tag:noindex
X-PUBLISHED-TTL:PT1H
BEGIN:VTIMEZONE
TZID:Europe/Madrid
BEGIN:DAYLIGHT
TZOFFSETFROM:+0100
TZOFFSETTO:+0200
TZNAME:CEST
DTSTART:20250330T010000
END:DAYLIGHT
BEGIN:STANDARD
TZOFFSETFROM:+0200
TZOFFSETTO:+0100
TZNAME:CET
DTSTART:20251026T010000
END:STANDARD
BEGIN:DAYLIGHT
TZOFFSETFROM:+0100
TZOFFSETTO:+0200
TZNAME:CEST
DTSTART:20260329T010000
END:DAYLIGHT
BEGIN:STANDARD
TZOFFSETFROM:+0200
TZOFFSETTO:+0100
TZNAME:CET
DTSTART:20261025T010000
END:STANDARD
BEGIN:DAYLIGHT
TZOFFSETFROM:+0100
TZOFFSETTO:+0200
TZNAME:CEST
DTSTART:20270328T010000
END:DAYLIGHT
BEGIN:STANDARD
TZOFFSETFROM:+0200
TZOFFSETTO:+0100
TZNAME:CET
DTSTART:20271031T010000
END:STANDARD
END:VTIMEZONE
BEGIN:VEVENT
DTSTART;TZID=Europe/Madrid:20260301T103000
DTEND;TZID=Europe/Madrid:20260301T114500
DTSTAMP:20260426T002504
CREATED:20250616T091127Z
LAST-MODIFIED:20260302T192851Z
UID:18402-1772361000-1772365500@carrerasciudadreal.es
SUMMARY:10K Ciudad de Valdepeñas 2026
DESCRIPTION:Prueba que se celebra al mismo tiempo que la Media Maratón de Valdepeñas 2026. El precio de la misma es de 15€. El último día las inscripciones se incrementan en 2€\, siendo el último día el 23 de febrero de 2026. \nEl reglamento se puede descargar aquí. Y el cartel de la prueba en este enlace. \nEnlaces para descargar clasificaciones: General\, por Clubes y por Categorías.
URL:https://carrerasciudadreal.es/evento/10k-valdepenas-2026/
LOCATION:Valdepeñas\, Ciudad Deportiva Virgen de la Cabeza\, Valdepeñas\, Ciudad Real\, 13300\, España
CATEGORIES:Carrera
ORGANIZER;CN="Ayuntamiento de Valdepe%C3%B1as":MAILTO:deportes@valdepenas.es
END:VEVENT
BEGIN:VEVENT
DTSTART;TZID=Europe/Madrid:20260301T103000
DTEND;TZID=Europe/Madrid:20260301T130000
DTSTAMP:20260426T002504
CREATED:20250616T091739Z
LAST-MODIFIED:20260316T083712Z
UID:18401-1772361000-1772370000@carrerasciudadreal.es
SUMMARY:Muy Heroica Media Maratón Ciudad de Valdepeñas 2026
DESCRIPTION:Segunda prueba del Circuito de Carreras de Ciudad Real 2026. El precio de la misma es de 18€ para los no inscritos al Circuito y de 16€ para los inscritos al Circuito de Carreras de Ciudad Real 2026. Los atletas que terminaron 14 pruebas en 2025 solo pagarán 12€. El último día las inscripciones se incrementan en 2€\, siendo el último día el 23 de febrero de 2026. \nEl reglamento se puede descargar aquí. Y el cartel de la prueba en este enlace. \nEnlaces para descargar clasificaciones: General\, por Clubes y por Categorías.
URL:https://carrerasciudadreal.es/evento/media-maraton-valdepenas-2026/
LOCATION:Valdepeñas\, Ciudad Deportiva Virgen de la Cabeza\, Valdepeñas\, Ciudad Real\, 13300\, España
CATEGORIES:Carrera
ORGANIZER;CN="Ayuntamiento de Valdepe%C3%B1as":MAILTO:deportes@valdepenas.es
END:VEVENT
END:VCALENDAR